BEGIN:VCALENDAR
VERSION:2.0
PRODID:-//Nok. Bergen - ECPv6.15.15//NONSGML v1.0//EN
CALSCALE:GREGORIAN
METHOD:PUBLISH
X-ORIGINAL-URL:https://www.nokbergen.no
X-WR-CALDESC:Arrangement for Nok. Bergen
REFRESH-INTERVAL;VALUE=DURATION:PT1H
X-Robots-Tag:noindex
X-PUBLISHED-TTL:PT1H
BEGIN:VTIMEZONE
TZID:Europe/Oslo
BEGIN:DAYLIGHT
TZOFFSETFROM:+0100
TZOFFSETTO:+0200
TZNAME:CEST
DTSTART:20240331T010000
END:DAYLIGHT
BEGIN:STANDARD
TZOFFSETFROM:+0200
TZOFFSETTO:+0100
TZNAME:CET
DTSTART:20241027T010000
END:STANDARD
BEGIN:DAYLIGHT
TZOFFSETFROM:+0100
TZOFFSETTO:+0200
TZNAME:CEST
DTSTART:20250330T010000
END:DAYLIGHT
BEGIN:STANDARD
TZOFFSETFROM:+0200
TZOFFSETTO:+0100
TZNAME:CET
DTSTART:20251026T010000
END:STANDARD
BEGIN:DAYLIGHT
TZOFFSETFROM:+0100
TZOFFSETTO:+0200
TZNAME:CEST
DTSTART:20260329T010000
END:DAYLIGHT
BEGIN:STANDARD
TZOFFSETFROM:+0200
TZOFFSETTO:+0100
TZNAME:CET
DTSTART:20261025T010000
END:STANDARD
END:VTIMEZONE
BEGIN:VEVENT
DTSTART;TZID=Europe/Oslo:20251105T173000
DTEND;TZID=Europe/Oslo:20251105T193000
DTSTAMP:20260424T222658
CREATED:20250710T094551Z
LAST-MODIFIED:20250710T094551Z
UID:7502-1762363800-1762371000@www.nokbergen.no
SUMMARY:Samtalegruppe for personer utsatt av søsken eller jevnaldrende i nær relasjon
DESCRIPTION:Seksuelle overgrep blant søsken eller jevnaldrende i nær relasjon er regnet som den mest vanlige formen for overgrep mot barn. Til tross for omfanget\, er denne formen for overgrep mot barn fortsatt i liten grad forstått\, forsket på og snakket om i fagmiljø og i samfunnet generelt. \nHar du opplevd dette? Kanskje er du i en variant av sjokk over at disse ordene treffer noe i deg. Hvis du er\, eller har vært\, i en bearbeidingsfase kan denne samtalegruppen være for deg. Gjennom å dele egne erfaringer og delta i andres historier\, vil du føle deg mindre alene. \nSamtalegruppen ledes av to erfarne veiledere. \nEr du usikker på om dette kan være noe for deg\, eller har du spørsmål om gruppen? Ta gjerne kontakt med bettina@nokbergen.no eller lillan@nokbergen.no \nDatoer: Onsdag 10.9\, 24.9\, 8.10\, 22.10\, 5.11 og 19.11. \n\n  \nPåmelding\n\nPåmeldingsfrist: Torsdag 4.9 kl. 12.00\nPåmelding skjer via e-post til post@nokbergen.no. Oppgi navnet ditt\, mobilnummer og «Samtalegruppe søsken».\nNår påmeldingsfristen går ut får du vite om du har fått plass eller ikke på en SMS.\nDersom du må avlyse setter vi pris på om du gir oss beskjed slik at andre kan få plass.\n\nVi må informere om at det er begrenset antall plasser og at noen kan risikere å ikke få plass dersom påmeldingen blir full.
URL:https://www.nokbergen.no/aktivitetskalender/samtalegruppe-for-personer-utsatt-av-sosken-eller-jevnaldrende-i-naer-relasjon-4/
ATTACH;FMTTYPE=image/jpeg:https://www.nokbergen.no/wp-content/uploads/annie-spratt-ZQTylWGscQw-unsplash-scaled-e1752140577732.jpg
END:VEVENT
BEGIN:VEVENT
DTSTART;TZID=Europe/Oslo:20251106T130000
DTEND;TZID=Europe/Oslo:20251106T150000
DTSTAMP:20260424T222658
CREATED:20250828T132534Z
LAST-MODIFIED:20250828T132534Z
UID:7538-1762434000-1762441200@www.nokbergen.no
SUMMARY:Energigruppe 4/4
DESCRIPTION:Velkommen til en gruppe med fokus på energi og velvære! \nBli med på fire inspirerende dager hvor vi sammen utforsker enkle måter å styrke kroppens energi og livsglede på. Det gjør vi gjennom lek\, fellesskap\, bevegelse og sansing i et trygt og inkluderende rom. Du trenger ingen forkunnskaper for å delta\, bare et ønske om å utforske nye måter å gi kropp og sinn mer energi. \nGruppen går annenhver torsdag til og med 6. november\, og ledes av Anne og Trine. Denne gangen møtes vi på dagtid. Vi gleder oss! \n  \nPåmelding\n\nPåmeldingsfrist: Søndag 21.9 kl. 12.00\nPåmelding skjer via e-post til post@nokbergen.no. Oppgi navnet ditt\, mobilnummer og «Energigruppen».\nNår påmeldingsfristen går ut får du vite om du har fått plass eller ikke på en SMS.\nDersom du må avlyse setter vi pris på om du gir oss beskjed slik at andre kan få plass.\n\nVi må informere om at det er begrenset antall plasser og at noen kan risikere å ikke få plass dersom påmeldingen blir full.
URL:https://www.nokbergen.no/aktivitetskalender/energigruppe-4-4-2/
ATTACH;FMTTYPE=image/png:https://www.nokbergen.no/wp-content/uploads/Skjermbilde-2024-11-29-083311.png
END:VEVENT
BEGIN:VEVENT
DTSTART;TZID=Europe/Oslo:20251112T140000
DTEND;TZID=Europe/Oslo:20251112T160000
DTSTAMP:20260424T222658
CREATED:20250911T083228Z
LAST-MODIFIED:20250912T092831Z
UID:7570-1762956000-1762963200@www.nokbergen.no
SUMMARY:Samtalegruppe for foreldre og foresatte
DESCRIPTION:Har du et barn som har vært utsatt for seksuelle overgrep\, og ønsker å treffe andre i samme situasjon? Vi inviterer til samtalegruppe for foresatte med oppstart 15. oktober. \nI gruppen vil du finne støtte hos de andre\, og kjenne at du ikke er alene om dine erfaringer. Selv i vanskelige livssituasjoner finnes det mye håp\, inspirasjon og mestring i fellesskap med andre. Gruppen ledes av to erfarne veiledere. \nDeltakere trenger ikke å være tilknyttet Nok. Bergen fra før av. \n  \nDatoer: Onsdag 15.10\, 29.10 og 12.11. \n\n  \nPåmelding\n\nPåmeldingsfrist: Mandag 13.10 kl. 12.00\nPåmelding skjer via e-post til post@nokbergen.no. Oppgi navnet ditt\, mobilnummer og «Samtalegruppe foresatte».\nNår påmeldingsfristen går ut får du vite om du har fått plass eller ikke på en SMS.\nDersom du må avlyse setter vi pris på om du gir oss beskjed slik at andre kan få plass.\n\nVi må informere om at det er begrenset antall plasser og at noen kan risikere å ikke få plass dersom påmeldingen blir full.
URL:https://www.nokbergen.no/aktivitetskalender/samtalegruppe-for-foreldre-og-foresatte-3/
ATTACH;FMTTYPE=image/png:https://www.nokbergen.no/wp-content/uploads/Foresatte.png
END:VEVENT
BEGIN:VEVENT
DTSTART;TZID=Europe/Oslo:20251112T163000
DTEND;TZID=Europe/Oslo:20251112T173000
DTSTAMP:20260424T222658
CREATED:20250821T114750Z
LAST-MODIFIED:20250821T114750Z
UID:7527-1762965000-1762968600@www.nokbergen.no
SUMMARY:Walk & talk
DESCRIPTION:Lyst å være med på noe sosialt og aktivt? \nVi møtes utenfor senteret klokken 16:30 og går en rolig runde rundt Store Lungegårdsvannet. To veiledere er med på turen. \nDet er ingen påmelding\, så bare still opp utenfor.
URL:https://www.nokbergen.no/aktivitetskalender/walk-talk-4/
ATTACH;FMTTYPE=image/png:https://www.nokbergen.no/wp-content/uploads/Dame-pa-tur-e1741353865392.png
END:VEVENT
BEGIN:VEVENT
DTSTART;TZID=Europe/Oslo:20251113T180000
DTEND;TZID=Europe/Oslo:20251113T200000
DTSTAMP:20260424T222658
CREATED:20250724T080722Z
LAST-MODIFIED:20251031T075528Z
UID:7511-1763056800-1763064000@www.nokbergen.no
SUMMARY:Messe for verdighet
DESCRIPTION:Velkommen til årets messe for verdighet i Bergen Domkirke\, torsdag 13. november. Messe for verdighet er en gudstjeneste med håp om en god fremtid for alle berørte av vold og seksuelle overgrep.\n\n\nArrangementet er et samarbeid mellom Bergen domkirke menighet\, Bjørgvin bispedøme\, Kirkens bymisjon\, Nok. Bergen\, Crux\, Kirkens SOS Bjørgvin\, VAKE\, Redd barna og Frelsesarmeen.\n\nDet er ingen påmelding.
URL:https://www.nokbergen.no/aktivitetskalender/messe-for-verdighet-4/
LOCATION:Domkirken i Bergen\, Domkirkeplassen 1\, Bergen\, 5003\, Norway
ATTACH;FMTTYPE=image/png:https://www.nokbergen.no/wp-content/uploads/messemsesse.png
END:VEVENT
BEGIN:VEVENT
DTSTART;TZID=Europe/Oslo:20251119T173000
DTEND;TZID=Europe/Oslo:20251119T193000
DTSTAMP:20260424T222658
CREATED:20250710T094607Z
LAST-MODIFIED:20250710T094607Z
UID:7504-1763573400-1763580600@www.nokbergen.no
SUMMARY:Samtalegruppe for personer utsatt av søsken eller jevnaldrende i nær relasjon
DESCRIPTION:Seksuelle overgrep blant søsken eller jevnaldrende i nær relasjon er regnet som den mest vanlige formen for overgrep mot barn. Til tross for omfanget\, er denne formen for overgrep mot barn fortsatt i liten grad forstått\, forsket på og snakket om i fagmiljø og i samfunnet generelt. \nHar du opplevd dette? Kanskje er du i en variant av sjokk over at disse ordene treffer noe i deg. Hvis du er\, eller har vært\, i en bearbeidingsfase kan denne samtalegruppen være for deg. Gjennom å dele egne erfaringer og delta i andres historier\, vil du føle deg mindre alene. \nSamtalegruppen ledes av to erfarne veiledere. \nEr du usikker på om dette kan være noe for deg\, eller har du spørsmål om gruppen? Ta gjerne kontakt med bettina@nokbergen.no eller lillan@nokbergen.no \nDatoer: Onsdag 10.9\, 24.9\, 8.10\, 22.10\, 5.11 og 19.11. \n\n  \nPåmelding\n\nPåmeldingsfrist: Torsdag 4.9 kl. 12.00\nPåmelding skjer via e-post til post@nokbergen.no. Oppgi navnet ditt\, mobilnummer og «Samtalegruppe søsken».\nNår påmeldingsfristen går ut får du vite om du har fått plass eller ikke på en SMS.\nDersom du må avlyse setter vi pris på om du gir oss beskjed slik at andre kan få plass.\n\nVi må informere om at det er begrenset antall plasser og at noen kan risikere å ikke få plass dersom påmeldingen blir full.
URL:https://www.nokbergen.no/aktivitetskalender/samtalegruppe-for-personer-utsatt-av-sosken-eller-jevnaldrende-i-naer-relasjon-5/
ATTACH;FMTTYPE=image/jpeg:https://www.nokbergen.no/wp-content/uploads/annie-spratt-ZQTylWGscQw-unsplash-scaled-e1752140577732.jpg
END:VEVENT
BEGIN:VEVENT
DTSTART;TZID=Europe/Oslo:20251126T173000
DTEND;TZID=Europe/Oslo:20251126T200000
DTSTAMP:20260424T222658
CREATED:20250903T175011Z
LAST-MODIFIED:20250919T061239Z
UID:7554-1764178200-1764187200@www.nokbergen.no
SUMMARY:Kreativgruppe
DESCRIPTION:Velkommen til kreativgruppe! Denne gruppen er for deg som ønsker å oppleve og utvikle egen kreativitet og skaperkraft. Vi utforsker ulike kreative uttrykk\, som maling og skulpturering. Det blir fokus på fellesskap og lek\, og vi øver oss på å være til stede i øyeblikket.  \nDet kreves ingen erfaring med kreativitet og maling for å være med.  \nKontakt oss gjerne om du lurer på noe. Du må gjerne høre med din faglige veileder før du melder deg på for å diskutere om gruppen kan være noe for deg. \nDatoer: 26.11\, 10.12\, 17.12 og 7.1\, 14.1 og 21.1. \nVennlig hilsen Reidun og Trine \n  \nPåmelding\n\nPåmeldingsfrist: Søndag 18.11 kl. 12.00\nPåmelding skjer via e-post til post@nokbergen.no. Oppgi navnet ditt\, faglig veileder\, mobilnummer og «Kreativgruppe».\nNår påmeldingsfristen går ut får du vite om du har fått plass eller ikke på en SMS.\nDersom du må avlyse setter vi pris på om du gir oss beskjed slik at andre kan få plass.\n\nVi må informere om at det er begrenset antall plasser og at noen kan risikere å ikke få plass dersom påmeldingen blir full.
URL:https://www.nokbergen.no/aktivitetskalender/kreativgruppe/
ATTACH;FMTTYPE=image/png:https://www.nokbergen.no/wp-content/uploads/Kreativgruppe.png
END:VEVENT
BEGIN:VEVENT
DTSTART;VALUE=DATE:20251128
DTEND;VALUE=DATE:20251129
DTSTAMP:20260424T222658
CREATED:20250903T175541Z
LAST-MODIFIED:20250903T175541Z
UID:7561-1764288000-1764374399@www.nokbergen.no
SUMMARY:Stengt senter
DESCRIPTION:Senteret er stengt i dag på grunn av personalsamling.
URL:https://www.nokbergen.no/aktivitetskalender/stengt-senter-9/
ATTACH;FMTTYPE=image/jpeg:https://www.nokbergen.no/wp-content/uploads/IMG_0765-scaled.jpg
END:VEVENT
END:VCALENDAR