BEGIN:VCALENDAR
VERSION:2.0
PRODID:-//Nok. Bergen - ECPv6.15.15//NONSGML v1.0//EN
CALSCALE:GREGORIAN
METHOD:PUBLISH
X-ORIGINAL-URL:https://www.nokbergen.no
X-WR-CALDESC:Arrangement for Nok. Bergen
REFRESH-INTERVAL;VALUE=DURATION:PT1H
X-Robots-Tag:noindex
X-PUBLISHED-TTL:PT1H
BEGIN:VTIMEZONE
TZID:Europe/Oslo
BEGIN:DAYLIGHT
TZOFFSETFROM:+0100
TZOFFSETTO:+0200
TZNAME:CEST
DTSTART:20240331T010000
END:DAYLIGHT
BEGIN:STANDARD
TZOFFSETFROM:+0200
TZOFFSETTO:+0100
TZNAME:CET
DTSTART:20241027T010000
END:STANDARD
BEGIN:DAYLIGHT
TZOFFSETFROM:+0100
TZOFFSETTO:+0200
TZNAME:CEST
DTSTART:20250330T010000
END:DAYLIGHT
BEGIN:STANDARD
TZOFFSETFROM:+0200
TZOFFSETTO:+0100
TZNAME:CET
DTSTART:20251026T010000
END:STANDARD
BEGIN:DAYLIGHT
TZOFFSETFROM:+0100
TZOFFSETTO:+0200
TZNAME:CEST
DTSTART:20260329T010000
END:DAYLIGHT
BEGIN:STANDARD
TZOFFSETFROM:+0200
TZOFFSETTO:+0100
TZNAME:CET
DTSTART:20261025T010000
END:STANDARD
END:VTIMEZONE
BEGIN:VEVENT
DTSTART;VALUE=DATE:20250501
DTEND;VALUE=DATE:20250502
DTSTAMP:20260425T051312
CREATED:20250430T123935Z
LAST-MODIFIED:20250430T124055Z
UID:7414-1746057600-1746143999@www.nokbergen.no
SUMMARY:Stengt
DESCRIPTION:Senteret er stengt 1. mai.
URL:https://www.nokbergen.no/aktivitetskalender/stengt-6/
ATTACH;FMTTYPE=image/png:https://www.nokbergen.no/wp-content/uploads/17-mai.png
END:VEVENT
BEGIN:VEVENT
DTSTART;VALUE=DATE:20250505
DTEND;VALUE=DATE:20250509
DTSTAMP:20260425T051312
CREATED:20240926T131636Z
LAST-MODIFIED:20250430T123759Z
UID:7188-1746403200-1746748799@www.nokbergen.no
SUMMARY:Stengt senter: Nok. landskonferanse
DESCRIPTION:Vi holder stengt som følge av Nok. landskonferansen 2025 i Bergen.
URL:https://www.nokbergen.no/aktivitetskalender/nok-landskonferanse/
ATTACH;FMTTYPE=image/png:https://www.nokbergen.no/wp-content/uploads/arlig-konferanse-for-Nok.sentreme-og-vare-samarbeidspartnere-i-hjelpeapparatet.png
END:VEVENT
BEGIN:VEVENT
DTSTART;VALUE=DATE:20250529
DTEND;VALUE=DATE:20250530
DTSTAMP:20260425T051312
CREATED:20250430T124033Z
LAST-MODIFIED:20250430T124920Z
UID:7417-1748476800-1748563199@www.nokbergen.no
SUMMARY:Stengt
DESCRIPTION:Senteret er stengt i anledning Kristi himmelfartsdag.
URL:https://www.nokbergen.no/aktivitetskalender/stengt-7/
ATTACH;FMTTYPE=image/png:https://www.nokbergen.no/wp-content/uploads/17-mai.png
END:VEVENT
END:VCALENDAR