BEGIN:VCALENDAR
VERSION:2.0
PRODID:-//Nok. Bergen - ECPv6.15.15//NONSGML v1.0//EN
CALSCALE:GREGORIAN
METHOD:PUBLISH
X-WR-CALNAME:Nok. Bergen
X-ORIGINAL-URL:https://www.nokbergen.no
X-WR-CALDESC:Arrangement for Nok. Bergen
REFRESH-INTERVAL;VALUE=DURATION:PT1H
X-Robots-Tag:noindex
X-PUBLISHED-TTL:PT1H
BEGIN:VTIMEZONE
TZID:Europe/Oslo
BEGIN:DAYLIGHT
TZOFFSETFROM:+0100
TZOFFSETTO:+0200
TZNAME:CEST
DTSTART:20240331T010000
END:DAYLIGHT
BEGIN:STANDARD
TZOFFSETFROM:+0200
TZOFFSETTO:+0100
TZNAME:CET
DTSTART:20241027T010000
END:STANDARD
BEGIN:DAYLIGHT
TZOFFSETFROM:+0100
TZOFFSETTO:+0200
TZNAME:CEST
DTSTART:20250330T010000
END:DAYLIGHT
BEGIN:STANDARD
TZOFFSETFROM:+0200
TZOFFSETTO:+0100
TZNAME:CET
DTSTART:20251026T010000
END:STANDARD
BEGIN:DAYLIGHT
TZOFFSETFROM:+0100
TZOFFSETTO:+0200
TZNAME:CEST
DTSTART:20260329T010000
END:DAYLIGHT
BEGIN:STANDARD
TZOFFSETFROM:+0200
TZOFFSETTO:+0100
TZNAME:CET
DTSTART:20261025T010000
END:STANDARD
END:VTIMEZONE
BEGIN:VEVENT
DTSTART;TZID=Europe/Oslo:20251126T173000
DTEND;TZID=Europe/Oslo:20251126T200000
DTSTAMP:20260424T235213
CREATED:20250903T175011Z
LAST-MODIFIED:20250919T061239Z
UID:7554-1764178200-1764187200@www.nokbergen.no
SUMMARY:Kreativgruppe
DESCRIPTION:Velkommen til kreativgruppe! Denne gruppen er for deg som ønsker å oppleve og utvikle egen kreativitet og skaperkraft. Vi utforsker ulike kreative uttrykk\, som maling og skulpturering. Det blir fokus på fellesskap og lek\, og vi øver oss på å være til stede i øyeblikket.  \nDet kreves ingen erfaring med kreativitet og maling for å være med.  \nKontakt oss gjerne om du lurer på noe. Du må gjerne høre med din faglige veileder før du melder deg på for å diskutere om gruppen kan være noe for deg. \nDatoer: 26.11\, 10.12\, 17.12 og 7.1\, 14.1 og 21.1. \nVennlig hilsen Reidun og Trine \n  \nPåmelding\n\nPåmeldingsfrist: Søndag 18.11 kl. 12.00\nPåmelding skjer via e-post til post@nokbergen.no. Oppgi navnet ditt\, faglig veileder\, mobilnummer og «Kreativgruppe».\nNår påmeldingsfristen går ut får du vite om du har fått plass eller ikke på en SMS.\nDersom du må avlyse setter vi pris på om du gir oss beskjed slik at andre kan få plass.\n\nVi må informere om at det er begrenset antall plasser og at noen kan risikere å ikke få plass dersom påmeldingen blir full.
URL:https://www.nokbergen.no/aktivitetskalender/kreativgruppe/
ATTACH;FMTTYPE=image/png:https://www.nokbergen.no/wp-content/uploads/Kreativgruppe.png
END:VEVENT
END:VCALENDAR