BEGIN:VCALENDAR
VERSION:2.0
PRODID:-//Nok. Bergen - ECPv6.15.15//NONSGML v1.0//EN
CALSCALE:GREGORIAN
METHOD:PUBLISH
X-WR-CALNAME:Nok. Bergen
X-ORIGINAL-URL:https://www.nokbergen.no
X-WR-CALDESC:Arrangement for Nok. Bergen
REFRESH-INTERVAL;VALUE=DURATION:PT1H
X-Robots-Tag:noindex
X-PUBLISHED-TTL:PT1H
BEGIN:VTIMEZONE
TZID:Europe/Oslo
BEGIN:DAYLIGHT
TZOFFSETFROM:+0100
TZOFFSETTO:+0200
TZNAME:CEST
DTSTART:20240331T010000
END:DAYLIGHT
BEGIN:STANDARD
TZOFFSETFROM:+0200
TZOFFSETTO:+0100
TZNAME:CET
DTSTART:20241027T010000
END:STANDARD
BEGIN:DAYLIGHT
TZOFFSETFROM:+0100
TZOFFSETTO:+0200
TZNAME:CEST
DTSTART:20250330T010000
END:DAYLIGHT
BEGIN:STANDARD
TZOFFSETFROM:+0200
TZOFFSETTO:+0100
TZNAME:CET
DTSTART:20251026T010000
END:STANDARD
BEGIN:DAYLIGHT
TZOFFSETFROM:+0100
TZOFFSETTO:+0200
TZNAME:CEST
DTSTART:20260329T010000
END:DAYLIGHT
BEGIN:STANDARD
TZOFFSETFROM:+0200
TZOFFSETTO:+0100
TZNAME:CET
DTSTART:20261025T010000
END:STANDARD
END:VTIMEZONE
BEGIN:VEVENT
DTSTART;TZID=Europe/Oslo:20251106T130000
DTEND;TZID=Europe/Oslo:20251106T150000
DTSTAMP:20260424T235203
CREATED:20250828T132534Z
LAST-MODIFIED:20250828T132534Z
UID:7538-1762434000-1762441200@www.nokbergen.no
SUMMARY:Energigruppe 4/4
DESCRIPTION:Velkommen til en gruppe med fokus på energi og velvære! \nBli med på fire inspirerende dager hvor vi sammen utforsker enkle måter å styrke kroppens energi og livsglede på. Det gjør vi gjennom lek\, fellesskap\, bevegelse og sansing i et trygt og inkluderende rom. Du trenger ingen forkunnskaper for å delta\, bare et ønske om å utforske nye måter å gi kropp og sinn mer energi. \nGruppen går annenhver torsdag til og med 6. november\, og ledes av Anne og Trine. Denne gangen møtes vi på dagtid. Vi gleder oss! \n  \nPåmelding\n\nPåmeldingsfrist: Søndag 21.9 kl. 12.00\nPåmelding skjer via e-post til post@nokbergen.no. Oppgi navnet ditt\, mobilnummer og «Energigruppen».\nNår påmeldingsfristen går ut får du vite om du har fått plass eller ikke på en SMS.\nDersom du må avlyse setter vi pris på om du gir oss beskjed slik at andre kan få plass.\n\nVi må informere om at det er begrenset antall plasser og at noen kan risikere å ikke få plass dersom påmeldingen blir full.
URL:https://www.nokbergen.no/aktivitetskalender/energigruppe-4-4-2/
ATTACH;FMTTYPE=image/png:https://www.nokbergen.no/wp-content/uploads/Skjermbilde-2024-11-29-083311.png
END:VEVENT
END:VCALENDAR