BEGIN:VCALENDAR
VERSION:2.0
PRODID:-//Nok. Bergen - ECPv6.15.15//NONSGML v1.0//EN
CALSCALE:GREGORIAN
METHOD:PUBLISH
X-ORIGINAL-URL:https://www.nokbergen.no
X-WR-CALDESC:Arrangement for Nok. Bergen
REFRESH-INTERVAL;VALUE=DURATION:PT1H
X-Robots-Tag:noindex
X-PUBLISHED-TTL:PT1H
BEGIN:VTIMEZONE
TZID:Europe/Oslo
BEGIN:DAYLIGHT
TZOFFSETFROM:+0100
TZOFFSETTO:+0200
TZNAME:CEST
DTSTART:20240331T010000
END:DAYLIGHT
BEGIN:STANDARD
TZOFFSETFROM:+0200
TZOFFSETTO:+0100
TZNAME:CET
DTSTART:20241027T010000
END:STANDARD
BEGIN:DAYLIGHT
TZOFFSETFROM:+0100
TZOFFSETTO:+0200
TZNAME:CEST
DTSTART:20250330T010000
END:DAYLIGHT
BEGIN:STANDARD
TZOFFSETFROM:+0200
TZOFFSETTO:+0100
TZNAME:CET
DTSTART:20251026T010000
END:STANDARD
BEGIN:DAYLIGHT
TZOFFSETFROM:+0100
TZOFFSETTO:+0200
TZNAME:CEST
DTSTART:20260329T010000
END:DAYLIGHT
BEGIN:STANDARD
TZOFFSETFROM:+0200
TZOFFSETTO:+0100
TZNAME:CET
DTSTART:20261025T010000
END:STANDARD
END:VTIMEZONE
BEGIN:VEVENT
DTSTART;TZID=Europe/Oslo:20251029T140000
DTEND;TZID=Europe/Oslo:20251029T160000
DTSTAMP:20260424T220602
CREATED:20250911T083217Z
LAST-MODIFIED:20250912T092802Z
UID:7568-1761746400-1761753600@www.nokbergen.no
SUMMARY:Samtalegruppe for foreldre og foresatte
DESCRIPTION:Har du et barn som har vært utsatt for seksuelle overgrep\, og ønsker å treffe andre i samme situasjon? Vi inviterer til samtalegruppe for foresatte med oppstart 15. oktober. \nI gruppen vil du finne støtte hos de andre\, og kjenne at du ikke er alene om dine erfaringer. Selv i vanskelige livssituasjoner finnes det mye håp\, inspirasjon og mestring i fellesskap med andre. Gruppen ledes av to erfarne veiledere. \nDeltakere trenger ikke å være tilknyttet Nok. Bergen fra før av. \n  \nDatoer: Onsdag 15.10\, 29.10 og 12.11. \n\n  \nPåmelding\n\nPåmeldingsfrist: Mandag 13.10 kl. 12.00\nPåmelding skjer via e-post til post@nokbergen.no. Oppgi navnet ditt\, mobilnummer og «Samtalegruppe foresatte».\nNår påmeldingsfristen går ut får du vite om du har fått plass eller ikke på en SMS.\nDersom du må avlyse setter vi pris på om du gir oss beskjed slik at andre kan få plass.\n\nVi må informere om at det er begrenset antall plasser og at noen kan risikere å ikke få plass dersom påmeldingen blir full.
URL:https://www.nokbergen.no/aktivitetskalender/samtalegruppe-for-foreldre-og-foresatte-2/
ATTACH;FMTTYPE=image/png:https://www.nokbergen.no/wp-content/uploads/Foresatte.png
END:VEVENT
END:VCALENDAR