BEGIN:VCALENDAR
VERSION:2.0
PRODID:-//Nok. Bergen - ECPv6.15.15//NONSGML v1.0//EN
CALSCALE:GREGORIAN
METHOD:PUBLISH
X-WR-CALNAME:Nok. Bergen
X-ORIGINAL-URL:https://www.nokbergen.no
X-WR-CALDESC:Arrangement for Nok. Bergen
REFRESH-INTERVAL;VALUE=DURATION:PT1H
X-Robots-Tag:noindex
X-PUBLISHED-TTL:PT1H
BEGIN:VTIMEZONE
TZID:Europe/Oslo
BEGIN:DAYLIGHT
TZOFFSETFROM:+0100
TZOFFSETTO:+0200
TZNAME:CEST
DTSTART:20240331T010000
END:DAYLIGHT
BEGIN:STANDARD
TZOFFSETFROM:+0200
TZOFFSETTO:+0100
TZNAME:CET
DTSTART:20241027T010000
END:STANDARD
BEGIN:DAYLIGHT
TZOFFSETFROM:+0100
TZOFFSETTO:+0200
TZNAME:CEST
DTSTART:20250330T010000
END:DAYLIGHT
BEGIN:STANDARD
TZOFFSETFROM:+0200
TZOFFSETTO:+0100
TZNAME:CET
DTSTART:20251026T010000
END:STANDARD
BEGIN:DAYLIGHT
TZOFFSETFROM:+0100
TZOFFSETTO:+0200
TZNAME:CEST
DTSTART:20260329T010000
END:DAYLIGHT
BEGIN:STANDARD
TZOFFSETFROM:+0200
TZOFFSETTO:+0100
TZNAME:CET
DTSTART:20261025T010000
END:STANDARD
END:VTIMEZONE
BEGIN:VEVENT
DTSTART;TZID=Europe/Oslo:20250108T173000
DTEND;TZID=Europe/Oslo:20250108T193000
DTSTAMP:20260425T134212
CREATED:20241128T133752Z
LAST-MODIFIED:20250102T081731Z
UID:7254-1736357400-1736364600@www.nokbergen.no
SUMMARY:Energigruppe 1/4
DESCRIPTION:Velkommen til en gruppe med fokus på energi og velvære! \nBli med på fire inspirerende kvelder hvor vi sammen utforsker enkle måter å styrke kroppens energi og livsglede på. Det gjør vi gjennom lek\, fellesskap\, bevegelse og sansing i et trygt og inkluderende rom. \nGruppen går annenhver onsdag til og med 19. februar\, og ledes av Anne og Trine. \n  \nPåmelding\n\nPåmeldingsfrist: Torsdag 2.1 kl. 15.00\nPåmelding skjer via e-post til post@nokbergen.no. Oppgi navnet ditt og «Energigruppe».\nEtter påmeldingsfristens utløp får du bekreftelse eller avslag på e-post.\nDersom du må avlyse setter vi pris på om du gir oss beskjed slik at andre kan få plass.\n\nVi må informere om at det er begrenset antall plasser og at noen kan risikere å bli avvist dersom det blir fullt.
URL:https://www.nokbergen.no/aktivitetskalender/energigruppe-1-4/
ATTACH;FMTTYPE=image/png:https://www.nokbergen.no/wp-content/uploads/Skjermbilde-2024-11-29-083311.png
END:VEVENT
END:VCALENDAR