BEGIN:VCALENDAR
VERSION:2.0
PRODID:-//Nok. Bergen - ECPv6.15.15//NONSGML v1.0//EN
CALSCALE:GREGORIAN
METHOD:PUBLISH
X-WR-CALNAME:Nok. Bergen
X-ORIGINAL-URL:https://www.nokbergen.no
X-WR-CALDESC:Arrangement for Nok. Bergen
REFRESH-INTERVAL;VALUE=DURATION:PT1H
X-Robots-Tag:noindex
X-PUBLISHED-TTL:PT1H
BEGIN:VTIMEZONE
TZID:Europe/Oslo
BEGIN:DAYLIGHT
TZOFFSETFROM:+0100
TZOFFSETTO:+0200
TZNAME:CEST
DTSTART:20230326T010000
END:DAYLIGHT
BEGIN:STANDARD
TZOFFSETFROM:+0200
TZOFFSETTO:+0100
TZNAME:CET
DTSTART:20231029T010000
END:STANDARD
BEGIN:DAYLIGHT
TZOFFSETFROM:+0100
TZOFFSETTO:+0200
TZNAME:CEST
DTSTART:20240331T010000
END:DAYLIGHT
BEGIN:STANDARD
TZOFFSETFROM:+0200
TZOFFSETTO:+0100
TZNAME:CET
DTSTART:20241027T010000
END:STANDARD
BEGIN:DAYLIGHT
TZOFFSETFROM:+0100
TZOFFSETTO:+0200
TZNAME:CEST
DTSTART:20250330T010000
END:DAYLIGHT
BEGIN:STANDARD
TZOFFSETFROM:+0200
TZOFFSETTO:+0100
TZNAME:CET
DTSTART:20251026T010000
END:STANDARD
END:VTIMEZONE
BEGIN:VEVENT
DTSTART;TZID=Europe/Oslo:20241204T163000
DTEND;TZID=Europe/Oslo:20241204T190000
DTSTAMP:20260425T151917
CREATED:20241105T115501Z
LAST-MODIFIED:20241119T135047Z
UID:7235-1733329800-1733338800@www.nokbergen.no
SUMMARY:Julesamling
DESCRIPTION:Vi inviterer til en hyggelig julesamling på senteret for våre brukere. Det blir underholdning og enkel servering. Håper å se deg der! \nPåmelding\n\nPåmeldingsfrist: Tirsdag 3.12 kl. 15.00\nPåmelding skjer via e-post til post@nokbergen.no. Oppgi navnet ditt og «Julesamling».\nEtter påmeldingsfristens utløp får du bekreftelse eller avslag på e-post.\nDersom du må avlyse setter vi pris på om du gir oss beskjed slik at andre kan få plass.\n\nVi må informere om at det er begrenset antall plasser og at noen kan risikere å bli avvist dersom det blir fullt.
URL:https://www.nokbergen.no/aktivitetskalender/julesamling/
ATTACH;FMTTYPE=image/png:https://www.nokbergen.no/wp-content/uploads/Vinter.png
END:VEVENT
END:VCALENDAR