BEGIN:VCALENDAR
VERSION:2.0
PRODID:-//Nok. Bergen - ECPv6.15.15//NONSGML v1.0//EN
CALSCALE:GREGORIAN
METHOD:PUBLISH
X-WR-CALNAME:Nok. Bergen
X-ORIGINAL-URL:https://www.nokbergen.no
X-WR-CALDESC:Arrangement for Nok. Bergen
REFRESH-INTERVAL;VALUE=DURATION:PT1H
X-Robots-Tag:noindex
X-PUBLISHED-TTL:PT1H
BEGIN:VTIMEZONE
TZID:Europe/Oslo
BEGIN:DAYLIGHT
TZOFFSETFROM:+0100
TZOFFSETTO:+0200
TZNAME:CEST
DTSTART:20230326T010000
END:DAYLIGHT
BEGIN:STANDARD
TZOFFSETFROM:+0200
TZOFFSETTO:+0100
TZNAME:CET
DTSTART:20231029T010000
END:STANDARD
BEGIN:DAYLIGHT
TZOFFSETFROM:+0100
TZOFFSETTO:+0200
TZNAME:CEST
DTSTART:20240331T010000
END:DAYLIGHT
BEGIN:STANDARD
TZOFFSETFROM:+0200
TZOFFSETTO:+0100
TZNAME:CET
DTSTART:20241027T010000
END:STANDARD
BEGIN:DAYLIGHT
TZOFFSETFROM:+0100
TZOFFSETTO:+0200
TZNAME:CEST
DTSTART:20250330T010000
END:DAYLIGHT
BEGIN:STANDARD
TZOFFSETFROM:+0200
TZOFFSETTO:+0100
TZNAME:CET
DTSTART:20251026T010000
END:STANDARD
END:VTIMEZONE
BEGIN:VEVENT
DTSTART;TZID=Europe/Oslo:20241030T173000
DTEND;TZID=Europe/Oslo:20241030T200000
DTSTAMP:20260425T173916
CREATED:20240829T104616Z
LAST-MODIFIED:20241022T115703Z
UID:7163-1730309400-1730318400@www.nokbergen.no
SUMMARY:Temakveld med Aldri alene
DESCRIPTION:Velkommen til temakveld med Aldri alene – frivillig organisasjon for voldsutsatte kvinner\, deres barn og pårørende og Nok. Bergen – kompetansesenter mot seksuelle overgrep. \nPå temakvelden vil Aldri alene presentere seg og sine tilbud\, og ansatte ved Nok. Bergen vil snakke om seksuelle overgrep og tilbudene på senteret. \nDet blir pause med lett bevertning. Den siste halvtimen er satt av til spørsmål og sosialisering. \n\n  \nPåmelding\n\nPåmeldingsfrist: Tirsdag 29.10 kl. 15.00\nPåmelding skjer via e-post til post@nokbergen.no. Oppgi navnet ditt og «Temakveld». Du får bekreftelse på at meldingen din er mottatt.\nEtter påmeldingsfristens utløp får du bekreftelse eller avslag på e-post.\nDersom du må avlyse setter vi pris på om du sender oss en e-post slik at andre kan få plass.\n\nVi må informere om at det er begrenset antall plasser og at noen kan risikere å bli avvist dersom det blir fullt.
URL:https://www.nokbergen.no/aktivitetskalender/temakveld-med-aldri-alene/
LOCATION:Nok. Bergen\, St. Jakobs plass 9\, 5008 Bergen\, Bergen\, Norge
ATTACH;FMTTYPE=image/png:https://www.nokbergen.no/wp-content/uploads/Skjermbilde-2024-09-16-123353-e1729244720623.png
END:VEVENT
END:VCALENDAR