BEGIN:VCALENDAR
VERSION:2.0
PRODID:-//Nok. Bergen - ECPv6.15.15//NONSGML v1.0//EN
CALSCALE:GREGORIAN
METHOD:PUBLISH
X-ORIGINAL-URL:https://www.nokbergen.no
X-WR-CALDESC:Arrangement for Nok. Bergen
REFRESH-INTERVAL;VALUE=DURATION:PT1H
X-Robots-Tag:noindex
X-PUBLISHED-TTL:PT1H
BEGIN:VTIMEZONE
TZID:Europe/Oslo
BEGIN:DAYLIGHT
TZOFFSETFROM:+0100
TZOFFSETTO:+0200
TZNAME:CEST
DTSTART:20230326T010000
END:DAYLIGHT
BEGIN:STANDARD
TZOFFSETFROM:+0200
TZOFFSETTO:+0100
TZNAME:CET
DTSTART:20231029T010000
END:STANDARD
BEGIN:DAYLIGHT
TZOFFSETFROM:+0100
TZOFFSETTO:+0200
TZNAME:CEST
DTSTART:20240331T010000
END:DAYLIGHT
BEGIN:STANDARD
TZOFFSETFROM:+0200
TZOFFSETTO:+0100
TZNAME:CET
DTSTART:20241027T010000
END:STANDARD
BEGIN:DAYLIGHT
TZOFFSETFROM:+0100
TZOFFSETTO:+0200
TZNAME:CEST
DTSTART:20250330T010000
END:DAYLIGHT
BEGIN:STANDARD
TZOFFSETFROM:+0200
TZOFFSETTO:+0100
TZNAME:CET
DTSTART:20251026T010000
END:STANDARD
END:VTIMEZONE
BEGIN:VEVENT
DTSTART;TZID=Europe/Oslo:20240828T173000
DTEND;TZID=Europe/Oslo:20240828T190000
DTSTAMP:20260425T204637
CREATED:20240610T112327Z
LAST-MODIFIED:20240807T082228Z
UID:7061-1724866200-1724871600@www.nokbergen.no
SUMMARY:Sommerfest for brukere
DESCRIPTION:Velkommen til sensommerfest for brukere! Vi inviterer til en kveld der du får treffe andre flotte brukere og ansatte. Det blir enkel servering og litt underholdning. \nDersom noen ønsker å bidra til underholdningen med f. eks en sang\, dikt\, en dans\, kahoot eller lignende send e-post til brukerrepresentant Sara på nokbruker@gmail.com. \nVi gleder oss! \nHilsen Kjersti\, Trine og Reidun \n  \nPåmelding\n\nPåmeldingsfrist: Mandag 26.8 kl. 15.00\nPåmelding skjer via SMS til 908 53 569. Oppgi navnet ditt og «Sommerfest». Du får bekreftelse på at meldingen din er mottatt.\nEtter påmeldingsfristens utløp får du bekreftelse eller avslag på SMS.\nDersom du må avlyse setter vi pris på om du sender oss en SMS slik at andre kan få plass.\n\nVi må informere om at det er begrenset antall plasser og at noen kan risikere å bli avvist dersom det blir fullt. \nPåmeldingslister med navn og telefonnummer blir oppbevart trygt og slettet etter 30 dager.
URL:https://www.nokbergen.no/aktivitetskalender/sommerfest-for-brukere-3/
ATTACH;FMTTYPE=image/png:https://www.nokbergen.no/wp-content/uploads/Sommerfest1.png
END:VEVENT
END:VCALENDAR